BEGIN:VCALENDAR
VERSION:2.0
PRODID:-//wp-events-plugin.com//7.2.3.1//EN
TZID:America/Indiana/Indianapolis
X-WR-TIMEZONE:America/Indiana/Indianapolis
BEGIN:VEVENT
UID:882@indygaa.com
DTSTART;TZID=America/Indiana/Indianapolis:20240905T180000
DTEND;TZID=America/Indiana/Indianapolis:20240905T220000
DTSTAMP:20240507T160826Z
URL:https://indygaa.com/events/10th-annual-dancing-with-our-star/
SUMMARY:10th Annual Dancing with Our Stars
DESCRIPTION:Come support Trevor Pike and help raise funds for Meals on Whee
 ls.
CATEGORIES:Social Events,Volunteering
LOCATION:Embassy Suites  Hilton Hotel Conference Center\, 13700 Conference 
 Center Drive\, Noblesville\, IN\, 46060\, United Arab Emirates
X-APPLE-STRUCTURED-LOCATION;VALUE=URI;X-ADDRESS=13700 Conference Center Dri
 ve\, Noblesville\, IN\, 46060\, United Arab Emirates;X-APPLE-RADIUS=100;X-
 TITLE=Embassy Suites  Hilton Hotel Conference Center:geo:0,0
END:VEVENT
BEGIN:VTIMEZONE
TZID:America/Indiana/Indianapolis
X-LIC-LOCATION:America/Indiana/Indianapolis
BEGIN:DAYLIGHT
DTSTART:20240310T030000
TZOFFSETFROM:-0500
TZOFFSETTO:-0400
TZNAME:EDT
END:DAYLIGHT
END:VTIMEZONE
END:VCALENDAR