BEGIN:VCALENDAR
VERSION:2.0
PRODID:-//wp-events-plugin.com//7.2.3.1//EN
TZID:America/Indiana/Indianapolis
X-WR-TIMEZONE:America/Indiana/Indianapolis
BEGIN:VEVENT
UID:624@indygaa.com
DTSTART;TZID=America/Indiana/Indianapolis;VALUE=DATE:20230513
DTEND;TZID=America/Indiana/Indianapolis;VALUE=DATE:20230514
DTSTAMP:20230214T135438Z
URL:https://indygaa.com/events/2003-brian-pierce-memorial-hurling-tourname
 nt/
SUMMARY:2003 Brian Pierce Memorial Hurling Tournament
DESCRIPTION:\n\nThe Fox River Hurling Club invites you to our Brian Pierce 
 Memorial Tournament on May 13\, 2023. We are hosting a tournament to comme
 morate the memory of Brian Pierce at the University of Wisconsin- Oshkosh 
 indoor Rec Plex Dome. Our tournament will have coed matches for Junior C a
 nd D teams to get out on the pitch and have a great time playing. If we ha
 ve enough women show interest there will be a camogie match/ matches as we
 ll. Our goal is to have a 11 on the field. Ideally each team would be resp
 onsible for providing a referee.\n\nWe have named our tourment to commemor
 ate the life of one of our amazing members who passed away way too soon. B
 rian was a member of our club and board who was an inspiration to be a goo
 d hurler\, good parent\, and all around amazing person.\n\nWe are looking 
 to see who would be interested in sending a team to this event. If we coul
 d get an email for interest for March 15 that would help us plan.\n
ATTACH;FMTTYPE=image/jpeg:https://indygaa.com/wp-content/uploads/2023/02/f
 rhc-logo-half.png
CATEGORIES:Tournaments
LOCATION:University of Wisconsin - Oshkosh Indoor Rec Plex Dome\, 140 Osceo
 la St.\, Oshkosh\, WI\, 54901\, United States
X-APPLE-STRUCTURED-LOCATION;VALUE=URI;X-ADDRESS=140 Osceola St.\, Oshkosh\,
  WI\, 54901\, United States;X-APPLE-RADIUS=100;X-TITLE=University of Wisco
 nsin - Oshkosh Indoor Rec Plex Dome:geo:0,0
END:VEVENT
BEGIN:VTIMEZONE
TZID:America/Indiana/Indianapolis
X-LIC-LOCATION:America/Indiana/Indianapolis
BEGIN:DAYLIGHT
DTSTART:20230312T030000
TZOFFSETFROM:-0500
TZOFFSETTO:-0400
TZNAME:EDT
END:DAYLIGHT
END:VTIMEZONE
END:VCALENDAR