BEGIN:VCALENDAR
VERSION:2.0
PRODID:-//wp-events-plugin.com//7.2.3.1//EN
TZID:America/Indiana/Indianapolis
X-WR-TIMEZONE:America/Indiana/Indianapolis
BEGIN:VEVENT
UID:840@indygaa.com
DTSTART;TZID=America/Indiana/Indianapolis:20240813T190000
DTEND;TZID=America/Indiana/Indianapolis:20240813T200000
DTSTAMP:20240813T155350Z
URL:https://indygaa.com/events/august-board-meeting-hold/
SUMMARY:August Board Meeting Hold /Cancelled
DESCRIPTION:Meeting is Canceled
CATEGORIES:Administrative
END:VEVENT
BEGIN:VTIMEZONE
TZID:America/Indiana/Indianapolis
X-LIC-LOCATION:America/Indiana/Indianapolis
BEGIN:DAYLIGHT
DTSTART:20240310T030000
TZOFFSETFROM:-0500
TZOFFSETTO:-0400
TZNAME:EDT
END:DAYLIGHT
END:VTIMEZONE
END:VCALENDAR