BEGIN:VCALENDAR
VERSION:2.0
PRODID:-//wp-events-plugin.com//7.2.3.1//EN
TZID:America/Indiana/Indianapolis
X-WR-TIMEZONE:America/Indiana/Indianapolis
BEGIN:VEVENT
UID:888@indygaa.com
DTSTART;TZID=America/Indiana/Indianapolis;VALUE=DATE:20240720
DTEND;TZID=America/Indiana/Indianapolis;VALUE=DATE:20240721
DTSTAMP:20240617T153120Z
URL:https://indygaa.com/events/cincinnati-10-year-blitz-football-tournamen
 t/
SUMMARY:Cincinnati 10-Year Blitz Football Tournament
DESCRIPTION:
CATEGORIES:Tournaments
LOCATION:https://www.google.com/maps/place/Cincinnati,+OH/@39.136311,-84.62
 28017,12z/data=!3m1!4b1!4m6!3m5!1s0x884051b1de3821f9:0x69fb7e8be4c09317!8m
 2!3d39.1031182!4d-84.5120196!16zL20vMDFzbm0?entry=ttu
END:VEVENT
BEGIN:VTIMEZONE
TZID:America/Indiana/Indianapolis
X-LIC-LOCATION:America/Indiana/Indianapolis
BEGIN:DAYLIGHT
DTSTART:20240310T030000
TZOFFSETFROM:-0500
TZOFFSETTO:-0400
TZNAME:EDT
END:DAYLIGHT
END:VTIMEZONE
END:VCALENDAR