BEGIN:VCALENDAR
VERSION:2.0
PRODID:-//wp-events-plugin.com//7.2.3.1//EN
TZID:America/Indiana/Indianapolis
X-WR-TIMEZONE:America/Indiana/Indianapolis
BEGIN:VEVENT
UID:213@indygaa.com
DTSTART;TZID=America/Indiana/Indianapolis:20210918T120000
DTEND;TZID=America/Indiana/Indianapolis:20210918T220000
DTSTAMP:20210909T194608Z
URL:https://indygaa.com/events/global-fest-2021/
SUMMARY:Global Fest
DESCRIPTION:We are looking for some club folks to volunteer for a Gaelic ga
 mes demo from 6-7pm - if you're interested please fill out out volunteer f
 orm →\n\n\n\nThink global and fest local at Global Fest Indy presented b
 y Plat Collective. Join us on September 18 as we share traditions\, honor
  heritage\, and learn about cultures through food\, music\, art and play.\
 n\nMore info can be found on their website →
ATTACH;FMTTYPE=image/jpeg:https://indygaa.com/wp-content/uploads/2021/08/g
 lobal_fest_green_orange_logo.jpg
CATEGORIES:Social Events
LOCATION:Northwood Christian Church\, 4550 Central Ave\, Indianapolis\, IN\
 , 46208\, United States
X-APPLE-STRUCTURED-LOCATION;VALUE=URI;X-ADDRESS=4550 Central Ave\, Indianap
 olis\, IN\, 46208\, United States;X-APPLE-RADIUS=100;X-TITLE=Northwood Chr
 istian Church:geo:0,0
END:VEVENT
BEGIN:VTIMEZONE
TZID:America/Indiana/Indianapolis
X-LIC-LOCATION:America/Indiana/Indianapolis
BEGIN:DAYLIGHT
DTSTART:20210314T030000
TZOFFSETFROM:-0500
TZOFFSETTO:-0400
TZNAME:EDT
END:DAYLIGHT
END:VTIMEZONE
END:VCALENDAR