BEGIN:VCALENDAR
VERSION:2.0
PRODID:-//wp-events-plugin.com//7.2.3.1//EN
TZID:America/Indiana/Indianapolis
X-WR-TIMEZONE:America/Indiana/Indianapolis
BEGIN:VEVENT
UID:1205@indygaa.com
DTSTART;TZID=America/Indiana/Indianapolis:20261101T100000
DTEND;TZID=America/Indiana/Indianapolis:20261101T120000
DTSTAMP:20260204T190041Z
URL:https://indygaa.com/events/indy-gaa-agm/
SUMMARY:Indy GAA AGM
DESCRIPTION:
CATEGORIES:Administrative
END:VEVENT
BEGIN:VTIMEZONE
TZID:America/Indiana/Indianapolis
X-LIC-LOCATION:America/Indiana/Indianapolis
BEGIN:STANDARD
DTSTART:20261101T010000
TZOFFSETFROM:-0400
TZOFFSETTO:-0500
TZNAME:EST
END:STANDARD
END:VTIMEZONE
END:VCALENDAR