BEGIN:VCALENDAR
VERSION:2.0
PRODID:-//wp-events-plugin.com//7.2.3.1//EN
TZID:America/Indiana/Indianapolis
X-WR-TIMEZONE:America/Indiana/Indianapolis
BEGIN:VEVENT
UID:855@indygaa.com
DTSTART;TZID=America/Indiana/Indianapolis:20240709T183000
DTEND;TZID=America/Indiana/Indianapolis:20240709T193000
DTSTAMP:20240409T142835Z
URL:https://indygaa.com/events/nationals-practice-hurling-camogie-2024-07-
 09/
SUMMARY:Nationals Training - Hurling/Camogie
DESCRIPTION:Nationals Training for Hurling and Camogie.  Nationals will ta
 ke place in San Francisco 8/16-8/18.
CATEGORIES:Training - Travel Teams
LOCATION:Eugene Burns\, 5602 Glenn Road \, Indianapolis \, IN\, 46226\, Uni
 ted States
X-APPLE-STRUCTURED-LOCATION;VALUE=URI;X-ADDRESS=5602 Glenn Road \, Indianap
 olis \, IN\, 46226\, United States;X-APPLE-RADIUS=100;X-TITLE=Eugene Burns
 :geo:0,0
END:VEVENT
BEGIN:VTIMEZONE
TZID:America/Indiana/Indianapolis
X-LIC-LOCATION:America/Indiana/Indianapolis
BEGIN:DAYLIGHT
DTSTART:20240310T030000
TZOFFSETFROM:-0500
TZOFFSETTO:-0400
TZNAME:EDT
END:DAYLIGHT
END:VTIMEZONE
END:VCALENDAR