BEGIN:VCALENDAR
VERSION:2.0
PRODID:-//wp-events-plugin.com//7.2.3.1//EN
TZID:America/Indiana/Indianapolis
X-WR-TIMEZONE:America/Indiana/Indianapolis
BEGIN:VEVENT
UID:1098@indygaa.com
DTSTART;TZID=America/Indiana/Indianapolis:20250801T190000
DTEND;TZID=America/Indiana/Indianapolis:20250801T220000
DTSTAMP:20250322T140100Z
URL:https://indygaa.com/events/premier-night-2/
SUMMARY:Premier Night
DESCRIPTION:
CATEGORIES:Leagues
LOCATION:Kuntz Stadium\, 1502 West 16th St \, Indianapolis\, IN\, 46202\, U
 nited States
X-APPLE-STRUCTURED-LOCATION;VALUE=URI;X-ADDRESS=1502 West 16th St \, Indian
 apolis\, IN\, 46202\, United States;X-APPLE-RADIUS=100;X-TITLE=Kuntz Stadi
 um:geo:0,0
END:VEVENT
BEGIN:VTIMEZONE
TZID:America/Indiana/Indianapolis
X-LIC-LOCATION:America/Indiana/Indianapolis
BEGIN:DAYLIGHT
DTSTART:20250309T030000
TZOFFSETFROM:-0500
TZOFFSETTO:-0400
TZNAME:EDT
END:DAYLIGHT
END:VTIMEZONE
END:VCALENDAR