BEGIN:VCALENDAR
VERSION:2.0
PRODID:-//wp-events-plugin.com//7.2.3.1//EN
TZID:America/Indiana/Indianapolis
X-WR-TIMEZONE:America/Indiana/Indianapolis
BEGIN:VEVENT
UID:781@indygaa.com
DTSTART;TZID=America/Indiana/Indianapolis:20240530T183000
DTEND;TZID=America/Indiana/Indianapolis:20240530T200000
DTSTAMP:20240417T105558Z
URL:https://indygaa.com/events/travel-football-practice/
SUMMARY:Travel Football Practice
DESCRIPTION:Practice for men's football travel team at Butler
CATEGORIES:Training - Travel Teams
LOCATION:butler\, 499 W 52nd St\, Indianapolis\, United States
X-APPLE-STRUCTURED-LOCATION;VALUE=URI;X-ADDRESS=499 W 52nd St\, Indianapoli
 s\, United States;X-APPLE-RADIUS=100;X-TITLE=butler:geo:0,0
END:VEVENT
BEGIN:VTIMEZONE
TZID:America/Indiana/Indianapolis
X-LIC-LOCATION:America/Indiana/Indianapolis
BEGIN:DAYLIGHT
DTSTART:20240310T030000
TZOFFSETFROM:-0500
TZOFFSETTO:-0400
TZNAME:EDT
END:DAYLIGHT
END:VTIMEZONE
END:VCALENDAR