BEGIN:VCALENDAR
VERSION:2.0
PRODID:-//wp-events-plugin.com//7.2.3.1//EN
TZID:America/Indiana/Indianapolis
X-WR-TIMEZONE:America/Indiana/Indianapolis
BEGIN:VEVENT
UID:776@indygaa.com
DTSTART;TZID=America/Indiana/Indianapolis:20240611T183000
DTEND;TZID=America/Indiana/Indianapolis:20240611T200000
DTSTAMP:20240429T213410Z
URL:https://indygaa.com/events/travel-hurling-practice-2/
SUMMARY:Travel Hurling Practice
DESCRIPTION:Practice for men's hurling travel team at Eugene Burns
CATEGORIES:Training - Travel Teams
LOCATION:Eugene Burns Football Park\, 5602 Glenn Rd.\, Indianapolis\, IN\, 
 46216\, United States
X-APPLE-STRUCTURED-LOCATION;VALUE=URI;X-ADDRESS=5602 Glenn Rd.\, Indianapol
 is\, IN\, 46216\, United States;X-APPLE-RADIUS=100;X-TITLE=Eugene Burns Fo
 otball Park:geo:0,0
END:VEVENT
BEGIN:VTIMEZONE
TZID:America/Indiana/Indianapolis
X-LIC-LOCATION:America/Indiana/Indianapolis
BEGIN:DAYLIGHT
DTSTART:20240310T030000
TZOFFSETFROM:-0500
TZOFFSETTO:-0400
TZNAME:EDT
END:DAYLIGHT
END:VTIMEZONE
END:VCALENDAR