BEGIN:VCALENDAR
VERSION:2.0
PRODID:-//wp-events-plugin.com//7.2.3.1//EN
TZID:America/Indiana/Indianapolis
X-WR-TIMEZONE:America/Indiana/Indianapolis
BEGIN:VEVENT
UID:808@indygaa.com
DTSTART;TZID=America/Indiana/Indianapolis:20240623T100000
DTEND;TZID=America/Indiana/Indianapolis:20240623T140000
DTSTAMP:20240313T124459Z
URL:https://indygaa.com/events/week-8-june-23-2024-pub-league/
SUMMARY:Week 8 June 23 2024 Pub League
DESCRIPTION:10:00 AM Tappers vs FSP Field 1  Daredevil Officials\n\n11:00 
 AM Bier vs Daredevil Field 1  FSP Officials\n\nNoon Hope vs Centerpoint F
 ield 1 Dugan Officials\n\nNoon Skyline vs Upland Field 2 SNUG Officials\n\
 n1:00 PM SNUG vs Dugan Field 2 Skyline Officials\n\n1:00 PM Field 1 Open
CATEGORIES:Leagues
END:VEVENT
BEGIN:VTIMEZONE
TZID:America/Indiana/Indianapolis
X-LIC-LOCATION:America/Indiana/Indianapolis
BEGIN:DAYLIGHT
DTSTART:20240310T030000
TZOFFSETFROM:-0500
TZOFFSETTO:-0400
TZNAME:EDT
END:DAYLIGHT
END:VTIMEZONE
END:VCALENDAR