BEGIN:VCALENDAR
VERSION:2.0
PRODID:-//wp-events-plugin.com//7.2.3.1//EN
TZID:America/Indiana/Indianapolis
X-WR-TIMEZONE:America/Indiana/Indianapolis
BEGIN:VEVENT
UID:809@indygaa.com
DTSTART;TZID=America/Indiana/Indianapolis:20240714T100000
DTEND;TZID=America/Indiana/Indianapolis:20240714T140000
DTSTAMP:20240313T130515Z
URL:https://indygaa.com/events/week-9-july-14-2024-pub-league-football-pla
 yoofs/
SUMMARY:Week 9 July  14 2024 Pub League Football Playoffs
DESCRIPTION:10:00 AM 2 Seed vs 3 Seed  Field 1  1/4 Seed Officials\n\n11:
 00 AM 1 Seed vs 4 Seed  Field 1  2/3 Seed Officials\n\nNoon Dugan vs Upl
 and Field 1 SNUG Officials\n\nNoon Skyline vs Centerpoint Field 2 Hope Off
 icials\n\n1:00 PM SNUG vs Hope Field 2 Centerpoint  Officials\n\n1:00 PM 
 Field 1 Open
CATEGORIES:Leagues
END:VEVENT
BEGIN:VTIMEZONE
TZID:America/Indiana/Indianapolis
X-LIC-LOCATION:America/Indiana/Indianapolis
BEGIN:DAYLIGHT
DTSTART:20240310T030000
TZOFFSETFROM:-0500
TZOFFSETTO:-0400
TZNAME:EDT
END:DAYLIGHT
END:VTIMEZONE
END:VCALENDAR